BEGIN:VCALENDAR
VERSION:2.0
PRODID:-//Mid Hudson Chapter - ECPv6.15.12.2//NONSGML v1.0//EN
CALSCALE:GREGORIAN
METHOD:PUBLISH
X-ORIGINAL-URL:https://midhudsonai.org
X-WR-CALDESC:Events for Mid Hudson Chapter
REFRESH-INTERVAL;VALUE=DURATION:PT1H
X-Robots-Tag:noindex
X-PUBLISHED-TTL:PT1H
BEGIN:VTIMEZONE
TZID:UTC
BEGIN:STANDARD
TZOFFSETFROM:+0000
TZOFFSETTO:+0000
TZNAME:UTC
DTSTART:20230101T000000
END:STANDARD
END:VTIMEZONE
BEGIN:VEVENT
DTSTART;TZID=UTC:20251218T083000
DTEND;TZID=UTC:20251218T163000
DTSTAMP:20260423T114939
CREATED:20230701T235828Z
LAST-MODIFIED:20251210T193806Z
UID:738-1766046600-1766075400@midhudsonai.org
SUMMARY:7-Hour USPAP Update Course
DESCRIPTION:2026-27 7-Hour National USPAP®\n\nInstructor: Bruce Hunter\, MAI\n\n\nSpringhill Suites by Marriott\n500 Westage Business Center Drive\nFishkill\, NY 12524\n\nDecemeber 18\, 2025
URL:https://midhudsonai.org/event/7-hour-uspap-update-course/
LOCATION:New York
END:VEVENT
BEGIN:VEVENT
DTSTART;TZID=UTC:20251210T180000
DTEND;TZID=UTC:20251210T210000
DTSTAMP:20260423T114939
CREATED:20230223T015302Z
LAST-MODIFIED:20251210T193131Z
UID:674-1765389600-1765400400@midhudsonai.org
SUMMARY:Installation Holiday Dinner Meeting
DESCRIPTION:Our installation Dinner meeting will be on Wednesday 12/10/25\, at Blu Pointe Restaurant\, 120 Front St\, Newburgh\, NY 12550. \nWe will celebrate the installation of the new\nOfficers and Directors for 2026.
URL:https://midhudsonai.org/event/installation-holiday-dinner-meeting/
LOCATION:New York
END:VEVENT
BEGIN:VEVENT
DTSTART;TZID=UTC:20251008T083000
DTEND;TZID=UTC:20251008T170000
DTSTAMP:20260423T114939
CREATED:20220703T031618Z
LAST-MODIFIED:20250330T190816Z
UID:532-1759912200-1759942800@midhudsonai.org
SUMMARY:The Mid Hudson Chapter 10th Annual Appraisal Case Studies Seminar
DESCRIPTION: 7 hours of CE Seminar\, The “Mid Hudson Chapter 10th Annual Appraisal Case Studies Seminar” \n 
URL:https://midhudsonai.org/event/the-mid-hudson-chapter-7th-annual-appraisal-case-studies-seminar/
LOCATION:Eleven-11 Grill\, 1111 Main St\, Fishkill\, NY\, 12524\, United States
END:VEVENT
BEGIN:VEVENT
DTSTART;TZID=UTC:20250611T170000
DTEND;TZID=UTC:20250611T210000
DTSTAMP:20260423T114939
CREATED:20250611T060014Z
LAST-MODIFIED:20250610T014139Z
UID:667-1749661200-1749675600@midhudsonai.org
SUMMARY:Membership Meeting - June Outing
DESCRIPTION:Mid-Hudson Chapter Membership Meeting \nDate TBA
URL:https://midhudsonai.org/event/membership-meeting-2/
LOCATION:Blu Pointe\, 120 Front St\, Newburgh\, New York\, 12550
END:VEVENT
BEGIN:VEVENT
DTSTART;TZID=UTC:20250423T083000
DTEND;TZID=UTC:20250423T123000
DTSTAMP:20260423T114939
CREATED:20220425T011454Z
LAST-MODIFIED:20250330T192351Z
UID:545-1745397000-1745411400@midhudsonai.org
SUMMARY:NYS Fair Housing-Fair Lending Course
DESCRIPTION:4 Hours of CE Course\, Fair Housing-Fair Lending Course – New NYS REQUIREMENT\, VIRTUAL Instructor: Len Fiore\, CSA-G \nPresented by Via ZOOM – LIVE and ONLINE \nOFFERING WILL TAKE PLACE APRIL 23th. \nTHIS CLASS WILL BE HELD VIA VIRTUAL INTERACTIVE CLASSROOM TECHNOLOGY. STUDENTS ARE REQUIRED TO HAVE A COMPUTER\, WEBCAM AND MICROPHONE. \nIT IS THE STUDENT’S RESPONSIBILITY TO HAVE THE REQUIRED EQUIPMENT TO PARTICIPATE AND RECEIVE CREDIT. \nVirtual Classroom Guidelines: Students must have a computer\, webcam and microphone capability to participate and receive continuing education credit. \nThe instructor must be able to physically see and interact with all students and students must be able to see and interact with the instructor. \nA copy of your driver’s license must be emailed to the Chapter office as verification after you have registered for the offering prior to the start date.  \nYou will receive a separate email from the chapter office with log-in access information. \nPlease contact the chapter office if you have any questions regarding the participation guidelines at: midhudsonai@yahoo.com. ZOOM access link will be emailed to student prior to the offering in separate email from registration confirmation. \nYou do not need a paid account from ZOOM to participate. If you are using your Ipad/Iphone/smartphone please download the ZOOM app prior to offering. \nPlease check your webcam privacy settings on your computer. \nPresented by Via ZOOM – LIVE and ONLINE \nContinuing Education Credit: \nAppraisal Institute CE – Approved – 4 Hours (20 Points) \nNew York State CE – 4 Hours – Pending \nThis course is for those people who are licensed and have already taken the 7 Hour Fair Housing & Fair Lending for Appraisers class at least one time.  You can then take this 4-hour version going forward for your license renewal. \nThe class will open at 8:00 am Eastern Time to check devices and ensure you can meet the Virtual education requirements. \nRoll call will start at 8:30 am sharp. The class hours are 8:30 am to 12:30 pm (EST). \n100% attendance required with audio video requirements met for the 100% requirement. \nhttps://www.appraisalinstitute.org/education/search/4-hour-update-to-fair-housing-fair-lending-c-midhud/524699 \n 
URL:https://midhudsonai.org/event/fair-housing-fair-lending-course/
LOCATION:VIrtual
END:VEVENT
BEGIN:VEVENT
DTSTART;TZID=UTC:20250409T180000
DTEND;TZID=UTC:20250409T210000
DTSTAMP:20260423T114939
CREATED:20250330T195334Z
LAST-MODIFIED:20250330T195526Z
UID:887-1744221600-1744232400@midhudsonai.org
SUMMARY:Membership Dinner Meeting
DESCRIPTION:Membership Meeting \nMeeting Notice-April 2025
URL:https://midhudsonai.org/event/membership-dinner-meeting/
LOCATION:Eleven-11 Grill\, 1111 Main St\, Fishkill\, NY\, 12524\, United States
END:VEVENT
BEGIN:VEVENT
DTSTART;TZID=UTC:20240410T170000
DTEND;TZID=UTC:20240410T210000
DTSTAMP:20260423T114939
CREATED:20230223T014514Z
LAST-MODIFIED:20240218T201800Z
UID:665-1712768400-1712782800@midhudsonai.org
SUMMARY:Membership Meeting I
DESCRIPTION:Mid-Hudson Chapter Membership Meeting
URL:https://midhudsonai.org/event/membership-meeting/
LOCATION:Eleven-11 Grill\, 1111 Main St\, Fishkill\, NY\, 12524\, United States
END:VEVENT
END:VCALENDAR